BEGIN:VCALENDAR
VERSION:2.0
CALSCALE:GREGORIAN
PRODID:-//MyApp//Calendar 1.0//EN
BEGIN:VEVENT
METHOD:PUBLISH
UID:57951@regionalniportaly.cz
DTSTAMP:20260422T101315Z
DTSTART;VALUE=DATE:20251128
DTEND;VALUE=DATE:20251129
SUMMARY:Lucerna
DESCRIPTION:Jiráskova pohádková hra Lucerna patří mezi nejznámější tituly starší české dramatiky. Zaujala již při své premiéře v roce 1905\, kdy ji na scéně Národního divadla inscenoval režisér Jaroslav Kvapil. Výtvarnou stránku představení svěřil Mikoláši Alšovi a k hudební spolupráci přizval tehdejšího šéfa opery Karla Kovařovice.Soubor Bazilišek Benátský napadlo\, proč postupovat tradičně. A tak vznikla pohádkový příběh o tom\, jak mohla Lucerna opravdu vzniknout. To co známe z Jiráskova textu\, tady najdete\,a rl je to trochu jinak. A hlavně nechybí ani humor...Hraje: soubor Bazilišek Benátský
LOCATION:Bělá pod Bezdězem
END:VEVENT
END:VCALENDAR