BEGIN:VCALENDAR
VERSION:2.0
CALSCALE:GREGORIAN
PRODID:-//MyApp//Calendar 1.0//EN
BEGIN:VEVENT
METHOD:PUBLISH
UID:57933@regionalniportaly.cz
DTSTAMP:20260422T022341Z
DTSTART;VALUE=DATE:20251122
DTEND;VALUE=DATE:20251123
SUMMARY:Casanova na Duchcovském zámku
DESCRIPTION:Hluboce lidská komedie popisuje poslední dny slavného milovníka žen a světoběžníka na zámku v Duchcově. Osamělý\, vystavený intrikám a útokům zde napsal své paměti\, které se později staly světově proslulými. Autor přidal do této jeho životní etapy ještě poslední lásku – Žofii.&nbsp\;Hraje:&nbsp\;DS Karla Čapka Děčín
LOCATION:Bělá pod Bezdězem
END:VEVENT
END:VCALENDAR