BEGIN:VCALENDAR
VERSION:2.0
CALSCALE:GREGORIAN
PRODID:-//MyApp//Calendar 1.0//EN
BEGIN:VEVENT
METHOD:PUBLISH
UID:57800@regionalniportaly.cz
DTSTAMP:20260421T224246Z
DTSTART;VALUE=DATE:20260114
DTEND;VALUE=DATE:20260115
SUMMARY:Novoroční koncert města Čelákovic
DESCRIPTION:REBEL WITH THE BLUE VIOLINNejnovější program plný rockových hitů&nbsp\;Pavel Šporcl se v tomto zbrusu novém projektu poprvé představuje jako rockový houslista.&nbsp\;Připravte se na neuvěřitelnou jízdu plnou známých rockových hitů\, jejichž interpretace vás zvedne ze židle. To vše v podání našeho nejvýznamnějšího houslisty a jeho nové kapely spojující špičkové interprety z oblasti jazzu a rocku. Na vybraných vystoupení se mimo jiné se představí nejlepší virtuóz současnosti na Hammondovy klávesy Američan Brian Charette\, nominovaný na Cenu Grammy\, vyhledávaný bubeník Otto Hejnic\, a kytarista Sebastian Skalitzky.&nbsp\;Účinkují:Pavel Šporcl (CZ) – housleOndřej Kabrna (CZ) – hammond organ(Brian Charette (US) – hammond organ)Sebastian Skalitzky Sorrosa(CZ) – kytaraOtto Hejnic (CZ) – bicí
LOCATION:Čelákovice
END:VEVENT
END:VCALENDAR