BEGIN:VCALENDAR
VERSION:2.0
CALSCALE:GREGORIAN
PRODID:-//MyApp//Calendar 1.0//EN
BEGIN:VEVENT
METHOD:PUBLISH
UID:57602@regionalniportaly.cz
DTSTAMP:20260422T070140Z
DTSTART;VALUE=DATE:20251107
DTEND;VALUE=DATE:20251108
SUMMARY:Kuchyně
DESCRIPTION:Komorní příběh o místě\, kde je všude daleko\, kde žijí lidé\, kteří se zkrátka potřebují\, a kde se rodí přátelství. Příběh o tom\, jak Isak měl jen vařit a jíst v kuchyni a Folke měl mlčet a jen zapisovat.Hraje: DS Klas\, Klášterec na OhříPřestavení bylo součástí Jiráskova Hronova 2025Od souboru už jste viděli: Saturnin (2023)\, Přes přísný zákaz dotýká se sněhu (2015)\, Příliš hlučná samota (2010)Vstupné: v předprodeji 100 Kč\, na místě 150 Kč
LOCATION:Bělá pod Bezdězem
END:VEVENT
END:VCALENDAR