BEGIN:VCALENDAR
VERSION:2.0
CALSCALE:GREGORIAN
PRODID:-//MyApp//Calendar 1.0//EN
BEGIN:VEVENT
METHOD:PUBLISH
UID:57569@regionalniportaly.cz
DTSTAMP:20260421T205800Z
DTSTART;VALUE=DATE:20260124
DTEND;VALUE=DATE:20260125
SUMMARY:Muzikál Tlapkové patroly | Mělník
DESCRIPTION:Oblíbení hrdinové z Tlapkové patroly se chystají na své jediné rodinné muzikálové turné v České republice\, které se už nikdy nebude opakovat!Populární psí záchranáři přinášejí show\, která nadchne malé i velké diváky.Čeká vás nezapomenutelný rodinný muzikál plný hudby\, tance a dobrodružství. Děti se mohou těšit na Chase\, Marshallla\, Skye i další statečné pejsky\, kteří předvedou napínavý příběh v doprovodu&nbsp\;pohádkové atmosféry.Muzikál Tlapkové patroly vykouzlí úsměv na tváři každému dítěti a nabídne jedinečnou možnost zažít jejich dobrodružství&nbsp\;naživo! 🎭🐾🚨&nbsp\;Pozor!&nbsp\;🚨👉 JEDINÉ turné v ČR\, které se už nikdy nebude opakovat!Nepropásněte tuto jedinečnou příležitost a zajistěte si své vstupenky včas! 🎟️🌟
LOCATION:Mělník
END:VEVENT
END:VCALENDAR