BEGIN:VCALENDAR
VERSION:2.0
CALSCALE:GREGORIAN
PRODID:-//MyApp//Calendar 1.0//EN
BEGIN:VEVENT
METHOD:PUBLISH
UID:56479@regionalniportaly.cz
DTSTAMP:20260422T115354Z
DTSTART;VALUE=DATE:20250802
DTEND;VALUE=DATE:20250803
SUMMARY:Beáta Bocek - koncert
DESCRIPTION:Nezaměnitelná česko-polská písničkářka a hudebnice z Těšína.&nbsp\; Písně o vzpomínkách\, dětství\, cestách i snech.&nbsp\;Tato sympatická dáma z Českého Těšína vás uchvátí svým krásným hlasem ale i intuicí\, která ji vede ve zpěvu. Coby písničkářka na volné noze sbírala Beata zkušenosti v rodném Slezsku\, na Valašsku i při svých zahraničních cestách. Spolupracovala také s Trevor Coleman NZ (CD – One moment)\, její tvorba taky zazněla v představení &nbsp\;baletu Národního divadla \,\,Sólo pro nás dva” nebo v českém loutkovém představení v NY\, je taktéž členkou volného uskupení MDŽ. Ve svých\, převážně polsky zpívaných\, písních vypráví příběhy prožité\, vyslechnuté i smyšlené – které je ale hlavně vždy radost objevovat.V roce 2024 hrála v letním kině s uskupením MDŽ\, letos se vrací se sólovým vystoupením.&nbsp\;Večer v rámci letního kina+ je podpořen Městem Litoměřice.&nbsp\;
LOCATION:Litoměřice
END:VEVENT
END:VCALENDAR