BEGIN:VCALENDAR
VERSION:2.0
CALSCALE:GREGORIAN
PRODID:-//MyApp//Calendar 1.0//EN
BEGIN:VEVENT
METHOD:PUBLISH
UID:56419@regionalniportaly.cz
DTSTAMP:20260422T053923Z
DTSTART;VALUE=DATE:20250827
DTEND;VALUE=DATE:20250828
SUMMARY:Život k sežrání - Letní kino Litoměřice
DESCRIPTION:Česko\, Slovensko\, Francie\, 2024\, 79 minRežie: Kristina Dufková&nbsp\;Raz dva\, raz dva… zkouška mikrofonu. Dvanáctiletý Ben nadevše miluje nejen muziku\, ale i jídlo a vaření. A je to na něm taky znát. Když se ale jednoho dne zabouchne do spolužačky Klárky\, rozhodne se s kily navíc zatočit. Na cestě za vysněnou postavou i Klárčiným srdcem mu pomáhají hlavně kamarádi z kapely a starostlivá maminka. Animovaný film režisérky&nbsp\;Kristiny Dufkové&nbsp\;natočený podle knižního bestselleru&nbsp\;Mikaëla Olliviera&nbsp\;s humorem za doprovodu nadupaných songů sleduje první strasti\, lásky i nástrahy dospívání.
LOCATION:Litoměřice
END:VEVENT
END:VCALENDAR