BEGIN:VCALENDAR
VERSION:2.0
CALSCALE:GREGORIAN
PRODID:-//MyApp//Calendar 1.0//EN
BEGIN:VEVENT
METHOD:PUBLISH
UID:56417@regionalniportaly.cz
DTSTAMP:20260422T072159Z
DTSTART;VALUE=DATE:20250823
DTEND;VALUE=DATE:20250824
SUMMARY:Pod parou - Letní kino Litoměřice
DESCRIPTION:Česko\, Slovensko\, 2025\, 112 minRežie: Rudolf Biermann&nbsp\;Jedna vědecká teorie tvrdí\, že se všichni rodíme s přirozeným nedostatkem alkoholu v&nbsp\;krvi a náš organismus nejlépe funguje právě při dosažení a udržování jeho hladiny na úrovni 0\,5 promile. Učitelka Martina a její tři kamarádky se s&nbsp\;velkou vervou a nadšením pustí do bláznivého pokusu\, kterým chtějí tuto teorii osobně prověřit. Jakmile se jim podaří hladinku alkoholu dostat na potřebnou úroveň\, hned jim to dodá větší lehkost při vyučování i nadhled při řešení osobních situací. Jak se jejich experiment s pravidelnou konzumací alkoholu vyvine a co všechno způsobí\, ukáže skvěle vystavěný příběh filmu&nbsp\;Pod parou. Film je adaptací úspěšného dánského oscarového filmu&nbsp\;Chlast&nbsp\;z roku 2020. Tvůrci ale učinili několik zásadních změn\, především změnili hlavní čtveřici mužských hrdinů na ženské postavy a příběh adaptovali do prostředí moravského Mikulova.
LOCATION:Litoměřice
END:VEVENT
END:VCALENDAR