BEGIN:VCALENDAR
VERSION:2.0
CALSCALE:GREGORIAN
PRODID:-//MyApp//Calendar 1.0//EN
BEGIN:VEVENT
METHOD:PUBLISH
UID:56337@regionalniportaly.cz
DTSTAMP:20260422T084630Z
DTSTART;VALUE=DATE:20250806
DTEND;VALUE=DATE:20250807
SUMMARY:Magoři na kole - Letní kino Litoměřice
DESCRIPTION:Česko\, 2024\, 85 minRežie: Matěj Pichler&nbsp\;Bikeři&nbsp\;Tomáš Zejda&nbsp\;a&nbsp\;Ondra Novák&nbsp\;se vydávají na neobyčejnou expedici s cílem zdolat nepálskou horu Mera Peak (6461 m. n. m.) – nejvyšší místo\, které kdy bylo pokořeno na kole. Bláznivý nápad\, kterým by se zapsali do Guinessovy knihy rekordů\, postupně dostává reálnou podobu a přípravy na náročný sjezd přitvrzují. Ty největší překážky ale paradoxně na oba dobrodruhy čekají už během samotného výstupu. Unikátní dokument zaznamenává nejen jejich fyzické i psychické vypětí\, ale i výpovědi jiných jezdců a rodinných příslušníků. „Není to jen film o krásách hor\, ale o silném příběhu dvou kamarádů\, překonání sama sebe a o tom\, že jenom fyzická příprava nestačí\,“ říká režisér snímku&nbsp\;Matěj Pichler.
LOCATION:Litoměřice
END:VEVENT
END:VCALENDAR