BEGIN:VCALENDAR
VERSION:2.0
CALSCALE:GREGORIAN
PRODID:-//MyApp//Calendar 1.0//EN
BEGIN:VEVENT
METHOD:PUBLISH
UID:56336@regionalniportaly.cz
DTSTAMP:20260422T072149Z
DTSTART;VALUE=DATE:20250802
DTEND;VALUE=DATE:20250803
SUMMARY:Parthenope - Letní kino Litoměřice
DESCRIPTION:Itálie / Francie\, 2024\, 136 minRežie: Paolo Sorrentino&nbsp\;V roce 1950 se v tom nejkrásnějším městě narodila ta nejkrásnější žena. Svým vzhledem dokáže Parthenope okouzlit každého\, kdo ji spatří\, ona však nechce být pouhým symbolem pomíjivé krásy a vydává se na cestu poznání. Zamilovává se přitom do jihoitalské metropole a místních obyvatel\, jejichž osudy jsou neodmyslitelně spjaté s historií Neapole. Držitel Oscara&nbsp\;Paolo Sorrentino&nbsp\;(Velká nádhera) natočil velkolepé filmové pojednání o lidské kráse a její moci\, ale také milostný dopis svému rodnému městu.&nbsp\;Letní kino+Před projekcí od 20 h koncert Beaty Bocek.
LOCATION:Litoměřice
END:VEVENT
END:VCALENDAR