BEGIN:VCALENDAR
VERSION:2.0
CALSCALE:GREGORIAN
PRODID:-//MyApp//Calendar 1.0//EN
BEGIN:VEVENT
METHOD:PUBLISH
UID:56335@regionalniportaly.cz
DTSTAMP:20260422T110341Z
DTSTART;VALUE=DATE:20250801
DTEND;VALUE=DATE:20250802
SUMMARY:Kouzlo derby - Letní kino Litoměřice
DESCRIPTION:Česko\, 2025\, 107 minRežie: Petr Kolečko\, Vladimír Skórka&nbsp\;Jeden zápas\, mnoho příběhů. Profesorka bohemistiky\, která miluje fotbal. Otec a přítel dcery. Fotbalový rozhodčí a jubilejní zápas. Zpěvák a zamilovaná pražská radní. Komentátor a expert ve studiu nebo mladý fotbalový talent. Ve hvězdně obsazené komedii podle scénáře&nbsp\;Petra Kolečka&nbsp\;se rozehrává několik příběhů\, které se postupně propojí a vyústí během velkolepého finále přímo na stadionu během důležitého utkání. Název filmu odkazuje na šlágr fotbalové ligy\, ve skutečnosti je ale&nbsp\;Kouzlo derby&nbsp\;hlavně o lásce a vášni\, které s sebou život přináší v různých podobách.
LOCATION:Litoměřice
END:VEVENT
END:VCALENDAR