BEGIN:VCALENDAR
VERSION:2.0
CALSCALE:GREGORIAN
PRODID:-//MyApp//Calendar 1.0//EN
BEGIN:VEVENT
METHOD:PUBLISH
UID:56143@regionalniportaly.cz
DTSTAMP:20260422T022350Z
DTSTART;VALUE=DATE:20260204
DTEND;VALUE=DATE:20260205
SUMMARY:Souboj Klavírů v Litoměřicích
DESCRIPTION:Zveme vás na jedinečný koncert dvou výjimečných klavíristů a hudebních skladatelů – Ondřeje Brzobohatého a Ondřeje Brouska! Tito celoživotní přátelé spojí své hudební mistrovství na pódiu v Kulturním domě&nbsp\;v Litoměřicích!&nbsp\;Přijďte si užít večer plný virtuózní klavírní hry a nezapomenutelných melodií!Jak by zněla „Osudová“\, kdyby byl Beethoven optimista? Proč pláčeme při banálním filmovém dialogu? Co je to „nevhodná“ hudba? Že se u klasické hudby nedá pořádně zasmát? Může mít „Souboj klavírů“ vítěze?Na tyto otázky vám stylově odpoví duo Brousek – Brzobohatý\, které připravilo nezapomenutelný večer plný hudebních vtipů s dvěma klavíry.„Celé představení si můžete naplno vychutnat\, díky klenotu mezi koncertními klavíry W. HOFFMANN Professional P206.Tímto děkujeme našemu partnerovi C. Bechstein -&nbsp\;www.bechstein.com&nbsp\;za podporu akce.“
LOCATION:Litoměřice
END:VEVENT
END:VCALENDAR