BEGIN:VCALENDAR
VERSION:2.0
CALSCALE:GREGORIAN
PRODID:-//MyApp//Calendar 1.0//EN
BEGIN:VEVENT
METHOD:PUBLISH
UID:56094@regionalniportaly.cz
DTSTAMP:20260421T205830Z
DTSTART;VALUE=DATE:20260310
DTEND;VALUE=DATE:20260311
SUMMARY:Muzikály Josefa Vojtka v Litoměřicích
DESCRIPTION:&nbsp\;„MUZIKÁLY JOSEFA VOJTKA&nbsp\;– Tak trochu rockově“Nenechte si ujít jedinečnou možnost zažít vystoupení jednoho z nejvýraznějších hlasů české rockové a muzikálové scény. Za doprovodu známé&nbsp\;kapely Charlie Band&nbsp\;zazní&nbsp\; písně z muzikálů ve kterých Josef Vojtek účinkoval. Tři Mušketýři\, Angelika\, Kleopatra\, Hamlet\, Dracula\, a mnoho dalších. Připravte se na velkolepý zážitek\, kde se srdce rockera potká s vášní pro muzikály.&nbsp\;
LOCATION:Litoměřice
END:VEVENT
END:VCALENDAR