BEGIN:VCALENDAR
VERSION:2.0
CALSCALE:GREGORIAN
PRODID:-//MyApp//Calendar 1.0//EN
BEGIN:VEVENT
METHOD:PUBLISH
UID:55886@regionalniportaly.cz
DTSTAMP:20260422T102806Z
DTSTART;VALUE=DATE:20250712
DTEND;VALUE=DATE:20250713
SUMMARY:Zlatovláska - Letní kino Litoměřice
DESCRIPTION:Česko\, Slovensko\, 2025\, 116 minRežie: Jan Těšitel&nbsp\;Královský panoš Jiřík ochutná sousto z magického hada a porozumí řeči zvířat. Proviní se tím však proti příkazu svého krále\, a tak jej čeká buď trest smrti\, nebo nejistá a nebezpečná cesta za Zlatovláskou\, princeznou z tajemné říše uprostřed moře. Vydá se proto na cestu v doprovodu Štěpána\, se kterým vyrůstal od dětství\, a malého psíka Štístka\, jemuž Jiřík zachránil život. Jiříka čeká po cestě celá řada dobrodružství i překvapení. Netuší\, že Štěpánem cloumá závist a není to tak upřímný kamarád\, jakým se zdál být. Naštěstí má Jiřík statečné spojence\, zvířátka\,&nbsp\;kterým&nbsp\;pomohl.&nbsp\;
LOCATION:Litoměřice
END:VEVENT
END:VCALENDAR