BEGIN:VCALENDAR
VERSION:2.0
CALSCALE:GREGORIAN
PRODID:-//MyApp//Calendar 1.0//EN
BEGIN:VEVENT
METHOD:PUBLISH
UID:55884@regionalniportaly.cz
DTSTAMP:20260424T084044Z
DTSTART;VALUE=DATE:20250716
DTEND;VALUE=DATE:20250717
SUMMARY:Žlutou žábou do země modrého nebe - Letní kino Litoměřice
DESCRIPTION:Česko\, 2025\, 123 minRežie: Dan Přibáň&nbsp\;Trabanty objely svět\, teď plují žáby! Cestovatel&nbsp\;Dan Přibáň&nbsp\;se po&nbsp\;šesti letech vrací do&nbsp\;kin – tentokrát v&nbsp\;obojživelném vozidle LuAZ 967 přezdívaném žlutá žába\, které nejen jede\, ale i&nbsp\;plave! Spolu s&nbsp\;ním vyráží na&nbsp\;divokou cestu česko-slovenská parta bláznivých dobrodruhů včetně nezničitelného&nbsp\;Marka Slobodníka&nbsp\;na&nbsp\;plovoucí motocyklové tříkolce.&nbsp\;Cíl? 18 000 kilometrů z&nbsp\;Prahy až do&nbsp\;Ulánbátaru. Prostředky? Ojeté\, nebezpečné a&nbsp\;legrační stroje. Výzvy? Nástrahy exotických zemí\, bizarní režimy\, mizející řeky\, kvetoucí pouště i&nbsp\;nekonečné pláně\, kde nejsou cesty – jen směry.&nbsp\;A Mongolsko – země modrého nebe. Nejméně osídlená země světa. Země\, která láme srdce i&nbsp\;plní sny. Ve&nbsp\;finále\, pod&nbsp\;dunami pouště Gobi\, dojatí chlapi zjišťují\, že to fakt stálo za&nbsp\;to a&nbsp\;že zázraky se dějí… Ale někdy úplně jinak\, než čekali.
LOCATION:Litoměřice
END:VEVENT
END:VCALENDAR