BEGIN:VCALENDAR
VERSION:2.0
CALSCALE:GREGORIAN
PRODID:-//MyApp//Calendar 1.0//EN
BEGIN:VEVENT
METHOD:PUBLISH
UID:55883@regionalniportaly.cz
DTSTAMP:20260422T104748Z
DTSTART;VALUE=DATE:20250719
DTEND;VALUE=DATE:20250720
SUMMARY:Nebezpečné sny - Letní kino Litoměřice
DESCRIPTION:Mexiko\, USA\, 2025\, 99 minRežie: Michel Franco&nbsp\;Jennifer (Jessica Chastain) je vlivná žena v bohatém světě sanfranciské společenské smetánky. Její pečlivě vystavěný život se otřese\, když do něj nečekaně vstoupí mladý\, charismatický tanečník Fernando. Napětí vyplývající z rozdílů v postavení a zkušenostech jen umocňuje vzájemnou přitažlivost. Flirt se rychle mění v posedlost. Co všechno budou oba nepravděpodobní milenci ochotni riskovat? Psychologicky laděné erotické drama o polaritě dvou světů představil&nbsp\;Michel Franco&nbsp\;v hlavní soutěži Berlinale.Před i po filmu latino DJ\, před projekcí kvíz.&nbsp\;Občerstvení v duchu mexické kuchyně zajišťuje&nbsp\;Chunky Donkey. Areál otevřen od 20:00.&nbsp\;Letní kino +
LOCATION:Litoměřice
END:VEVENT
END:VCALENDAR