BEGIN:VCALENDAR
VERSION:2.0
CALSCALE:GREGORIAN
PRODID:-//MyApp//Calendar 1.0//EN
BEGIN:VEVENT
METHOD:PUBLISH
UID:55881@regionalniportaly.cz
DTSTAMP:20260422T091535Z
DTSTART;VALUE=DATE:20250726
DTEND;VALUE=DATE:20250727
SUMMARY:Deadpool & Wolverine - Letní kino Litoměřice
DESCRIPTION:Wolverine se zotavuje ze zranění\, když se setká s hláškujícím Deadpoolem. Spojí se\, aby porazili společného nepřítele.
LOCATION:Litoměřice
END:VEVENT
END:VCALENDAR