BEGIN:VCALENDAR
VERSION:2.0
CALSCALE:GREGORIAN
PRODID:-//MyApp//Calendar 1.0//EN
BEGIN:VEVENT
METHOD:PUBLISH
UID:55842@regionalniportaly.cz
DTSTAMP:20260422T104714Z
DTSTART;VALUE=DATE:20250709
DTEND;VALUE=DATE:20250710
SUMMARY:12 opic - Letní kino Litoměřice
DESCRIPTION:USA\, 1995\, 124 minRežie: Terry Gilliam&nbsp\;James Cole (Bruce Willis) prožil převážnou většinu svého života v podzemí. Nyní\, v roce 2025\, žije v ponuré\, tmavé\, zasněžené přítomnosti. Začalo to už na konci dvacátého století\, kdy během dvou let (1996 a 1997) zemřelo přičiněním neznámého bídáka\, který vypustil do ovzduší nebezpečný vir\, pět miliard obyvatel zeměkoule. Zůstalo jen jedno procento lidí\, kteří se teď krčí jako krtci pod zemí. Hrstka lidí se s tím ale nehodlá jenom tak smířit\, a proto vysílá do minulosti prostřednictvím stroje času „nedobrovolné dobrovolníky“ z řad vězňů. Jejich úkolem v podstatě není spasit svět a odvrátit neštěstí – co se stalo\, nejde odestát. Mají jen pozorovat\, sbírat vzorky a odhalit zdroj nákazy\, původ všeho zla. Vědci už pak zajistí vše ostatní\, vyvinou protilátku a zařídí\, aby se lidstvo jednadvacátého století mohlo vrátit zpátky na povrch zemský…
LOCATION:Litoměřice
END:VEVENT
END:VCALENDAR