BEGIN:VCALENDAR
VERSION:2.0
CALSCALE:GREGORIAN
PRODID:-//MyApp//Calendar 1.0//EN
BEGIN:VEVENT
METHOD:PUBLISH
UID:55837@regionalniportaly.cz
DTSTAMP:20260424T122241Z
DTSTART;VALUE=DATE:20250704
DTEND;VALUE=DATE:20250705
SUMMARY:Queer - Letní kino Litoměřice
DESCRIPTION:Itálie\, USA\, 2024\, 137 minRežie: Luca Guadagnino&nbsp\;50. léta minulého století. Američan William Lee (Daniel Craig) tráví své dlouhé dny osaměle v rozpálených uličkách Mexico City. Jeho život se ale mění\, když potkává Eugena. Mladý student v něm zažehne novou vášeň\, ale Williamova láska s sebou nese i spoustu nejistot a otazníků.&nbsp\;Luca Guadagnino&nbsp\;(Dej mi své jméno\,&nbsp\;Rivalové) přichází s moderní filmovou adaptaci světoznámého románu&nbsp\;Williama S. Burroughse.
LOCATION:Litoměřice
END:VEVENT
END:VCALENDAR