BEGIN:VCALENDAR
VERSION:2.0
CALSCALE:GREGORIAN
PRODID:-//MyApp//Calendar 1.0//EN
BEGIN:VEVENT
METHOD:PUBLISH
UID:55836@regionalniportaly.cz
DTSTAMP:20260424T122230Z
DTSTART;VALUE=DATE:20250702
DTEND;VALUE=DATE:20250703
SUMMARY:Za oponou velehor - Letní kino Litoměřice
DESCRIPTION:Česko\, Slovensko\, 2025\, 100 minRežie: Hana Pinkavová&nbsp\;Nikdy se nevzdávej\, neztrácej naději\, zkoušej své hranice&nbsp\;– to je krédo&nbsp\;Diny Štěrbové\, která jako první žena na světě v roce 1984 pokořila osmitisícovou hranici himálajské Čo Oju. V té době byly ženy s cepíny a mačkami na osmitisícovkách raritou. Ke stoupání na nejvyšší vrcholy se v době normalizace probojovávala. Podpora horolezeckého svazu nebyla žádná\, chlapi ženy na expedice nebrali. Vydělávala si na ně bouráním komínů a též šitím péřových spacích pytlů. Dina v roce 2005 odjela do pákistánského Baltistánu postiženého katastrofálním zemětřesením a s horolezeckým kolegou Vítězslavem Dokoupilem založila malou neziskovku. Pomohli ve výšce 3 500 m opravit mosty\, vybudovat cestu\, zavlažovací kanál a vodovod do jedné z nejodlehlejších vesnic. Po dvouletém úsilí zde vybudovali malou českou nemocnici. Jejich projekt zachránil za 17 let činnosti mnoho životů. Dina si je vědoma\, že tržní mechanismus vstoupil i do velehor a má také negativní důsledky. Přesto Dina\, stejně jako většina náboženství\, věří\, že zachránit jednoho člověka rovná se zachránit celý svět. Je to psáno v Bibli i Koránu. Jednaosmdesátiletou horolezkyni budeme též doprovázet při jejím loučení s velehorami a na výpravě do Pákistánu při humanitární misi
LOCATION:Litoměřice
END:VEVENT
END:VCALENDAR