BEGIN:VCALENDAR
VERSION:2.0
CALSCALE:GREGORIAN
PRODID:-//MyApp//Calendar 1.0//EN
BEGIN:VEVENT
METHOD:PUBLISH
UID:55765@regionalniportaly.cz
DTSTAMP:20260422T104831Z
DTSTART;VALUE=DATE:20250719
DTEND;VALUE=DATE:20250720
SUMMARY:The Beatles ve Veltrusích (The Bugles)
DESCRIPTION:Pojďte se s námi vrátit zpět v čase a zažijte jedinečné vystoupení!&nbsp\;Skupina The Bugles - Beatles Revival&nbsp\;vznikla v&nbsp\;roce 2000 v&nbsp\;Praze. Díky vysoce profesionálnímu přístupu se stala jednou z&nbsp\;nejžádanějších&nbsp\;revivalových skupin v&nbsp\;Čechách i zahraničí. Zakládá si na&nbsp\;přesném a autentickém pojetí&nbsp\;písní The Beatles. Všechny skladby jsou hrány&nbsp\;naživo\, v&nbsp\;původních tóninách a na originální nástroje&nbsp\;a aparatury. Velkou výhodou kapely je značná&nbsp\;vizuální a hlasová podobnost&nbsp\;se slavnou čtyřkou. Její&nbsp\;energická pódiová show&nbsp\;je umocněna originálními&nbsp\;kostýmy a účesy.&nbsp\;Levoruký baskytarista je samozřejmostí.Skupina The Bugles - Beatles Revival&nbsp\; si zakládá na přesné a autentické interpretaci originálu. Samozřejmostí je živé provedení písní v&nbsp\;původních tóninách na originální nástroje\, několik sad dobových kostýmů a stylové účesy. Energická pódiová show přesvědčí diváky všech generací.
LOCATION:Veltrusy
END:VEVENT
END:VCALENDAR