BEGIN:VCALENDAR
VERSION:2.0
CALSCALE:GREGORIAN
PRODID:-//MyApp//Calendar 1.0//EN
BEGIN:VEVENT
METHOD:PUBLISH
UID:55034@regionalniportaly.cz
DTSTAMP:20260424T124206Z
DTSTART;VALUE=DATE:20250628
DTEND;VALUE=DATE:20250629
SUMMARY:High School Heist
DESCRIPTION:Česko\, 2025\, 99 minRežie: Jan Haluza&nbsp\;Na Gymnáziu Za školou funguje místní „mafiánská“ banda Nostra\, které šéfuje frajer Yvoš (Tomáš Weber). Když Yvoš přinutí podivína a vyhlášeného zlodějíčka Tonyho (Prokop Zach) ukrást z kabinetu profesorky matematiky krabičku s&nbsp\;tajným obsahem\, ukáže se\, že má plán\, který má vyvrcholit na školní akademii. Tony zjišťuje\, že ukradl mobil své platonické lásky Valérie\, bývalé holky Yvoše. Ten se jí chce pomstít a promítnout veřejně její odhalené fotky z mobilu na akademii během vystoupení. Tony dá proto dohromady partu „lúzrů“ a společně plánují\, jak překazit Yvošovu pomstu. A Valérie se k&nbsp\;nim přidá. Tony s&nbsp\;Valérií se začínají sbližovat\, ale obě party čeká ještě spousta plánování\, sledovaček a napínavých honiček. Akademie se blíží a postupně vychází najevo\, že ne všechno je tak\, jak se zdálo být…
LOCATION:Litoměřice
END:VEVENT
END:VCALENDAR