BEGIN:VCALENDAR
VERSION:2.0
CALSCALE:GREGORIAN
PRODID:-//MyApp//Calendar 1.0//EN
BEGIN:VEVENT
METHOD:PUBLISH
UID:54292@regionalniportaly.cz
DTSTAMP:20260422T122046Z
DTSTART;VALUE=DATE:20250526
DTEND;VALUE=DATE:20250527
SUMMARY:Borneo krásné i drsné
DESCRIPTION:Začátek: 26. 5. 2025 | 18.00Konec: 26. 5. 2025 | 19.30hudební sál MKDVstupné: 100 Kč\nVypravíme se společně do malajské části třetího největšího ostrova světa – Bornea.\nPodnikneme treky pěšky i lodí do tropické džungle států Sarawak a Sabah\, abychom spatřili divoké orangutany a zvláštní nosaté opice kahau\, vousatá prasata i pestré zoborožce. Budeme spát v domorodých vesnicích s příslušníky obávaného kmene Dajaků v jejich "dlouhých domech" a zúčastníme se velké folklorní slavnosti Gawai. Vydáme se na výpravu za největší kvetoucí rostlinou světa - raflésií. Domorodé stezky nás provedou pralesem\, plným divokých orchidejí\, masožravých láčkovek a ohromující pestrostí zvířecí i ptačí říše. Nevynecháme ani obrovské jeskyně NP Niah a Mulu\, kde hnízdí tisíce netopýrů a salang\, z jejichž hnízd se vaří proslulá polévka! Ponoříme se i do hlubin moře na proslulém atolu národního parku Tunku Abdul Rahman a necháme se okouzlit životem na jeho korálových útesech. Na závěr si krátce prohlédneme i hlavní město Malajsie Kuala Lumpur.\nCestopisná přednáška Saši Ryvolové\nVstupné 100 Kč\, studenti a senioři 70 Kč
LOCATION:Mělník
END:VEVENT
END:VCALENDAR