BEGIN:VCALENDAR
VERSION:2.0
CALSCALE:GREGORIAN
PRODID:-//MyApp//Calendar 1.0//EN
BEGIN:VEVENT
METHOD:PUBLISH
UID:53320@regionalniportaly.cz
DTSTAMP:20260424T084100Z
DTSTART;VALUE=DATE:20250515
DTEND;VALUE=DATE:20250516
SUMMARY:Marie Němcová s kapelou - Vinyl club Litoměřice
DESCRIPTION:Na první pokus to nevyšlo\, ale máme pro Vás náhradní termín a podařilo se ho najít ještě před tím\, než se rozutečeme na dovolené a na venkovní zahrádky.&nbsp\;Věřím\, že si to vynahradíme o to víc :-)Přijďte s námi jen tak být a zaposlouchat se do písniček\, které - věřím - obejmou přesně to místo uvnitř Vás\, které to nejvíce potřebuje.Vy\, kteří nás znáte\, tak už víte. Vy\, co nás neznáte - naši příznivci písničky nazývají jako boho pop\, nebo hudební terapie koncertem. Přijďte\, pokud to tak ucítíte a věřím\, že tam prožijeme všechno\, co prožít potřebujeme.Kytara: Karel BártaBasa: Matěj HavlíčekBicí: Jan ChalupaPiano: Tomáš Jochmann
LOCATION:Litoměřice
END:VEVENT
END:VCALENDAR