BEGIN:VCALENDAR
VERSION:2.0
CALSCALE:GREGORIAN
PRODID:-//MyApp//Calendar 1.0//EN
BEGIN:VEVENT
METHOD:PUBLISH
UID:52920@regionalniportaly.cz
DTSTAMP:20260422T103555Z
DTSTART;VALUE=DATE:20250713
DTEND;VALUE=DATE:20250714
SUMMARY:MÁ VLTAVA – balet bratří Bubeníčků na zámku Veltrusy
DESCRIPTION:Zažijte jedinečné open-air baletní představení předních evropských sólistů v choreografii Jiřího Bubeníčka v areálu státního zámku Veltrusy.\n \nPrvní část večera nabídne ukázky z klasických baletů\, ale i dvě vlastní choreografie Jiřího Bubeníčka. Diváci se mohou těšit na duet z baletu The Piano\, který byl vytvořen pro Royal New Zealand Ballet\, dále na trio z představení Zwischen den Welten\, jenž bude mít svou premiéru v dubnu 2025 pro německý soubor Thüringer Staatsballett.   V druhé části večera budou provedeny tři ukázky z baletu Má vlast Bedřicha Smetany – konkrétně části Šárka\, Tábor a Vltava.\n \n📷 Serghei Gherciu
LOCATION:Veltrusy
END:VEVENT
END:VCALENDAR