BEGIN:VCALENDAR
VERSION:2.0
CALSCALE:GREGORIAN
PRODID:-//MyApp//Calendar 1.0//EN
BEGIN:VEVENT
METHOD:PUBLISH
UID:52473@regionalniportaly.cz
DTSTAMP:20260422T154347Z
DTSTART;VALUE=DATE:20250330
DTEND;VALUE=DATE:20250331
SUMMARY:Divadlo Vejminek - Čarodky
DESCRIPTION:Byla jednou jedna právnička\, které řekli\, že je žena bez espritu\, a proto si nikdy nenajde muže s fluidem. A pak jednoho pátku na České ulici potkala muže\, který jí přišel jako muž s fluidem. Nejdřív to vypadalo nevinně. Ale druhý den byly čarodějnice. A třetí den byl První máj. A čtvrtý den… No zkrátka romantická komedie z&nbsp\;Brna.&nbsp\;Režie: Mikoláš Tyc / Autor: Jan Šotkovský / Dramaturgie: Jitka a Jan Šotkovští / Texty písní: Jan Duchek / Hudba: Miroslav OndraKostýmy: Lenka Černá / Produkce: Janka Fišerová / Světla: Anna Laborová / Grafika: Jakub Rejlek / Scéna: Mikoláš Tyc&nbsp\;Obsazení:&nbsp\;Kateřina Ondrová\, právnička\, v nejlepších letech – Kateřina VeseláMiroslav Veselý\, všeuměl a flákač\, lehce středního věku – Miroslav OndraTi ostatní – Barbora Goldmannová a Petr Tlustý&nbsp\;Délka představení:&nbsp\;140 minut /&nbsp\;Pauza: ano (30 minut)
LOCATION:Velvary
END:VEVENT
END:VCALENDAR