BEGIN:VCALENDAR
VERSION:2.0
CALSCALE:GREGORIAN
PRODID:-//MyApp//Calendar 1.0//EN
BEGIN:VEVENT
METHOD:PUBLISH
UID:52190@regionalniportaly.cz
DTSTAMP:20260422T103607Z
DTSTART;VALUE=DATE:20250913
DTEND;VALUE=DATE:20250914
SUMMARY:Kýpa fest Vraňany
DESCRIPTION:Kýpa fest Vraňany je přátelská jednodenní rocková akcička v příjemném prostředí na ostrově Kýpa\, obklopeném Vltavou a laterálním kanálem.Dostatek místa\, WC a občerstvení bez front.Plné hudební sety\, možnost focení a osobního setkání se členy kapel.&nbsp\;Přijďte si užít konec léta a podpořit pořádnej heavík v podání kapel - Komunál\, Roxor\, Vilda Čok &amp\; Bypass a Iron Maiden Praha.&nbsp\;
LOCATION:Vraňany
END:VEVENT
END:VCALENDAR