BEGIN:VCALENDAR
VERSION:2.0
CALSCALE:GREGORIAN
PRODID:-//MyApp//Calendar 1.0//EN
BEGIN:VEVENT
METHOD:PUBLISH
UID:47438@regionalniportaly.cz
DTSTAMP:20260422T154703Z
DTSTART;VALUE=DATE:20241212
DTEND;VALUE=DATE:20241213
SUMMARY:Koncert Kom.orchestru Dvořákova kraje k Roku české hudby
DESCRIPTION:Komorní orchestr Dvořákova kraje představí své umění a souhru v programu\, který v předvánočním čase potěší každého obdivovatele klasické hudby. Orchestr pod vedením Jana Sedláčka zahraje české i světové autory a představí některé nástroje také v sólových kusech.&nbsp\;
LOCATION:Velvary
END:VEVENT
END:VCALENDAR