BEGIN:VCALENDAR
VERSION:2.0
CALSCALE:GREGORIAN
PRODID:-//MyApp//Calendar 1.0//EN
BEGIN:VEVENT
METHOD:PUBLISH
UID:47256@regionalniportaly.cz
DTSTAMP:20260422T165822Z
DTSTART;VALUE=DATE:20241023
DTEND;VALUE=DATE:20241024
SUMMARY:Duncan tančí
DESCRIPTION:Studenti a studentky pražské Konzervatoře Duncan centre&nbsp\;a komponované představení jejich tvorby&nbsp\;již po sedmé v Litoměřicích.Autorské choreografie\,&nbsp\;výjimečné a různorodé tvůrčí přístupy a choreografické počiny mladé nastupující generace.Vstupné 120 Kč dospělí\, děti do 15 let 60 Kč.Vstupenky na místa nejsou číslovány\, přijďte prosím s předstihem a zvolte si vhodné místo.&nbsp\;Konzervatoř Duncan centre\, jediná státní škola pro současný tanec a tvorbu v Čechách.&nbsp\;Pořádá Kinoklub Ostrov s podporou města Litoměřice.&nbsp\;Místo konání:&nbsp\;Divadlo K. H. Máchy\, Máchovy schody 3\, Litoměřice.&nbsp\;&nbsp\;foto: Martin Špelda.&nbsp\;
LOCATION:Litoměřice
END:VEVENT
END:VCALENDAR