BEGIN:VCALENDAR
VERSION:2.0
CALSCALE:GREGORIAN
PRODID:-//MyApp//Calendar 1.0//EN
BEGIN:VEVENT
METHOD:PUBLISH
UID:46919@regionalniportaly.cz
DTSTAMP:20260424T142929Z
DTSTART;VALUE=DATE:20241122
DTEND;VALUE=DATE:20241123
SUMMARY:Podnebí
DESCRIPTION:aneb Co si zasloužíš\, to i dostanešŽivot dostáváme jako čistý\, neposkvrněný oděv. A každé naše rozhodnutí\, každé naše slovo\, náš čin se odrazí na čistotě našeho oděvu.Autor: Luděk KašparovskýHraje: Divadýlko na dlani
LOCATION:Bělá pod Bezdězem
END:VEVENT
END:VCALENDAR