BEGIN:VCALENDAR
VERSION:2.0
CALSCALE:GREGORIAN
PRODID:-//MyApp//Calendar 1.0//EN
BEGIN:VEVENT
METHOD:PUBLISH
UID:46918@regionalniportaly.cz
DTSTAMP:20260424T143451Z
DTSTART;VALUE=DATE:20241123
DTEND;VALUE=DATE:20241124
SUMMARY:Rozvod
DESCRIPTION:Jana a Pavel jsou choleričtí manžel\, kteří jsou schopni během chviličky vybuchnout a velmi ostře se pohádat kvůli maličkosti nebo dokonce naprostému nesmyslu. Pavel je vědec\, velmi nepraktický\, pověstný svou nešikovností a roztržitostí.Patrik\, jejich kamarád\, je právník\, kterého oba požádají o pomoc s rozvodem. Ten jim "nařídí" povinnou přestávku\, během které se jejich vztahy mají urovnat.Scénář a režie. Pavel NěmecHraje B.A.N.D.A. Bystřice
LOCATION:Bělá pod Bezdězem
END:VEVENT
END:VCALENDAR