BEGIN:VCALENDAR
VERSION:2.0
CALSCALE:GREGORIAN
PRODID:-//MyApp//Calendar 1.0//EN
BEGIN:VEVENT
METHOD:PUBLISH
UID:46914@regionalniportaly.cz
DTSTAMP:20260422T165905Z
DTSTART;VALUE=DATE:20241115
DTEND;VALUE=DATE:20241116
SUMMARY:Čarodky
DESCRIPTION:Čarodky&nbsp\;aneb Žena bez espritu a muž s fluidem hledají společnou chemiiByla jednou jedna právnička\, které řekli\, že je žena bez espritu\, a proto si nikdy nenajde muže s fluidem. A pak jednoho pátku na České ulici potkala muže\, který jí přišel jako muž s fluidem. Nejdřív to vypadalo nevinně. Ale druhý den byly čarodějnice. A třetí den byl První máj. A čtvrtý den… No zkrátka romantická komedie. Z Brna.Hraje Divadlo VejminekFoto: Nikol Wetterová
LOCATION:Bělá pod Bezdězem
END:VEVENT
END:VCALENDAR