BEGIN:VCALENDAR
VERSION:2.0
CALSCALE:GREGORIAN
PRODID:-//MyApp//Calendar 1.0//EN
BEGIN:VEVENT
METHOD:PUBLISH
UID:46852@regionalniportaly.cz
DTSTAMP:20260422T151921Z
DTSTART;VALUE=DATE:20241108
DTEND;VALUE=DATE:20241109
SUMMARY:Zakázané uvolnění
DESCRIPTION:hořká komedie o&nbsp\;třech ženách a&nbsp\;jednom hokejovém utkáníTři ženy s&nbsp\;rozdílnými životními osudy se potkávají v&nbsp\;hokejovém baru. Jedna nevěsta\, jedna svědkyně ženicha\, jedna barmanka a&nbsp\;jeden hokejový zápas\, který změní celou hru.„To souhlasil s&nbsp\;datumem svatby\, který koliduje se se semifinále hokeje proti Slovákům? Tak to vás buď fakt miluje k&nbsp\;smrti\, nebo je teplej…“Hořká komedie Petra Kolečka spojuje tři rozdílné povahy v&nbsp\;jeden okamžik a&nbsp\;na jednom místě. Každá z&nbsp\;žen někam směřuje a&nbsp\;v&nbsp\;něco doufá\, všechny jsou svým způsobem v&nbsp\;pasti a&nbsp\;pohybují se na opravdu tenkém ledě. Vše se chystá na tvrdou a&nbsp\;nekompromisní hru. Kdo vyhraje? Nebo bude remíza? Za okny navíc zuří bouřka\, ženich stále nepřichází a&nbsp\;na baru je dostatek alkoholu…Autor textu:&nbsp\;Petr Kolečko&nbsp\;Režie:&nbsp\;Kateřina VaněčkováPředstavení přiveze Divadelní spolek Jiří Poděbrady
LOCATION:Bělá pod Bezdězem
END:VEVENT
END:VCALENDAR