BEGIN:VCALENDAR
VERSION:2.0
CALSCALE:GREGORIAN
PRODID:-//MyApp//Calendar 1.0//EN
BEGIN:VEVENT
METHOD:PUBLISH
UID:46824@regionalniportaly.cz
DTSTAMP:20260422T165155Z
DTSTART;VALUE=DATE:20241109
DTEND;VALUE=DATE:20241110
SUMMARY:Choroš slaví 10 let
DESCRIPTION:POZOR\, POZOR! DŮLEŽITÉ HLÁŠENÍ!!!VSTUPENKY DO VLAKU JSOU JIŽ BEZNADĚJNĚ VYPRODANÉ\, K MÁNÍ JSOU JEŠTĚ&nbsp\;NA GALASHOW OD 18:00 V HOSPODĚ U LETNÍHO KINA!&nbsp\;KONEC HLÁŠENÍSkupina Choroš slaví letos na podzim deset let své existence a bude to&nbsp\;jízda!Pojedeme speciálně vypraveným choroším vlakem\, motorovým vozem řady 810\, přezdívaným orchestrion\, ve kterém můžete zažít spoustu překvapení\, hudby\, soutěží a v neposlední řadě krásných vyhlídek na České středohoří!Odjíždět&nbsp\;budeme v cca 13:00 z horního nádraží v Litoměřicích a vrátíme se v cca 16:30 do stanice Litoměřice-město.Neváhejte\, kapacita vlaku je omezená a zakoupená&nbsp\;jízdenka&nbsp\;vás opravňuje i k účasti na galashow\, která začne v 18:00 v hospodě U letního kina.Pokud chcete přijít pouze na galashow\,&nbsp\;kde vás čeká setkání s řadou milých a nečekaných hostů a spoustou muziky\, můžete si koupit vstupenku jen na ni. Tyto vstupenky jsou&nbsp\;trochu levnější\, ale také jich není moc.Hůůů hůůů!www.facebook.com/choros.cz/
LOCATION:Litoměřice
END:VEVENT
END:VCALENDAR