BEGIN:VCALENDAR
VERSION:2.0
CALSCALE:GREGORIAN
PRODID:-//MyApp//Calendar 1.0//EN
BEGIN:VEVENT
METHOD:PUBLISH
UID:46489@regionalniportaly.cz
DTSTAMP:20260422T132559Z
DTSTART;VALUE=DATE:20241004
DTEND;VALUE=DATE:20241005
SUMMARY:Fru Fru
DESCRIPTION:Originální taneční groove\, pop\, rock\, world music\, mužský hlas a steel drums.&nbsp\;
LOCATION:Litoměřice
END:VEVENT
END:VCALENDAR