BEGIN:VCALENDAR
VERSION:2.0
CALSCALE:GREGORIAN
PRODID:-//MyApp//Calendar 1.0//EN
BEGIN:VEVENT
METHOD:PUBLISH
UID:45850@regionalniportaly.cz
DTSTAMP:20260422T132532Z
DTSTART;VALUE=DATE:20241004
DTEND;VALUE=DATE:20241005
SUMMARY:KONCERT OD FRANCOSE 4 - Houba Nežfaleš Tour24
DESCRIPTION:4. ročnik tradiční vzpomínky na&nbsp\;Zdeňka Francírka\, bude mít i letos hvězdný lineup. Po skupinách: Garage a Tony Ducháček\, Plexis a Petr Hošek\, Driák(nehráli)\, rezidentech Tydle Vidle\, Beton\, Salón Rubín. Nás čekají: ústečtí Houba\, pražská Nežfaleš\, oblíbený Louty a Beton. 👁
LOCATION:Račice
END:VEVENT
END:VCALENDAR