BEGIN:VCALENDAR
VERSION:2.0
CALSCALE:GREGORIAN
PRODID:-//MyApp//Calendar 1.0//EN
BEGIN:VEVENT
METHOD:PUBLISH
UID:45064@regionalniportaly.cz
DTSTAMP:20260422T132456Z
DTSTART;VALUE=DATE:20240916
DTEND;VALUE=DATE:20240917
SUMMARY:Přednáška Dana Šáchy - Jak se připravit na Japonsko
DESCRIPTION:Zajímá vás Japonsko\, nebo se tam chystáte? Tohle je přednáška přesně pro vás.Dan Šácha se nedávno vrátil už z páté výpravy a má pro vás čerstvé informace. Na co se připravit\, čemu se vyhnout\, co zaručeně ochutnat a jak si cestu naplánovat tak\, abyste si ji maximálně užili (a neudělali přitom žádné faux-pas).https://www.yatta.cz/
LOCATION:Litoměřice
END:VEVENT
END:VCALENDAR