BEGIN:VCALENDAR
VERSION:2.0
CALSCALE:GREGORIAN
PRODID:-//MyApp//Calendar 1.0//EN
BEGIN:VEVENT
METHOD:PUBLISH
UID:44907@regionalniportaly.cz
DTSTAMP:20260422T102750Z
DTSTART;VALUE=DATE:20240821
DTEND;VALUE=DATE:20240822
SUMMARY:Vlny - Letní kino Litoměřice
DESCRIPTION:Česko\, 2024\, 131 minRežie: Jiří Mádl&nbsp\;Dobový film&nbsp\;Vlny&nbsp\;režiséra&nbsp\;Jiřího Mádla&nbsp\;ukáže napínavé a doposud utajené příběhy novinářů Československého rozhlasu. Na konci 60. let\, kdy zněl z rádiových vln rokenrol a studentské revolty měnily svět\, nastoupí starší z bratrů do prestižní redakce rozhlasu. Záhy se ocitne v nebezpečném souboji redaktorů a tajných služeb. Ve víru událostí půjde brzy všem o život a hlavní hrdina stojí před drsnou volbou: ochránit bratra\, nebo pravdu a kolegy? Film je inspirován skutečným příběhem skupiny novinářů mezinárodní redakce Československého rozhlasu a jejich odhodláním přinášet nezávislé zprávy za každou cenu.
LOCATION:Litoměřice
END:VEVENT
END:VCALENDAR