BEGIN:VCALENDAR
VERSION:2.0
CALSCALE:GREGORIAN
PRODID:-//MyApp//Calendar 1.0//EN
BEGIN:VEVENT
METHOD:PUBLISH
UID:44905@regionalniportaly.cz
DTSTAMP:20260422T101750Z
DTSTART;VALUE=DATE:20240816
DTEND;VALUE=DATE:20240817
SUMMARY:Chiméra - Letní kino Litoměřice
DESCRIPTION:Itálie\, Francie\, Švýcarsko\, 2023\, 130 minRežie: Alice Rohrwacher&nbsp\;Lovci pokladů\, vykradači hrobů a komedianti. To jsou členové party „Tombaroli“. Jeden z nich\, Arthur (Josh O’Connor)\, ale vyniká zvláštním darem – schopností najít místa\, kde jsou ukryty staré etruské poklady. Zatímco on sám urputně hledá ztracenou lásku\, ostatní přátelé využívají jeho jedinečný talent k dosažení bohatství. Hon za chimérami je však dovede až na hranici mezi živými a mrtvými světy. Režisérka&nbsp\;Alice Rohrwacher&nbsp\;přináší ve svém nezaměnitelném stylu magický snímek zasazený do prosluněných italských scenérií.
LOCATION:Litoměřice
END:VEVENT
END:VCALENDAR