BEGIN:VCALENDAR
VERSION:2.0
CALSCALE:GREGORIAN
PRODID:-//MyApp//Calendar 1.0//EN
BEGIN:VEVENT
METHOD:PUBLISH
UID:44904@regionalniportaly.cz
DTSTAMP:20260422T102653Z
DTSTART;VALUE=DATE:20240814
DTEND;VALUE=DATE:20240815
SUMMARY:Kaskadér - Letní kino Litoměřice
DESCRIPTION:USA\, 2024\, 126 minRežie: David Leitch&nbsp\;Kaskadér Colt Seavers (Ryan Gosling) býval hvězdou svého oboru\, dokud se při jedné obzvlášť náročné akční scéně cosi nepokazilo. Následkem nekontrolovaného pádu z&nbsp\;velké výšky skončil Colt s&nbsp\;pošramoceným tělem i egem. Rozhodl se dát filmovému průmyslu definitivní sbohem\, a dokonce kvůli tomu dal kopačky krásné a nadějné režisérce Jody (Emily Blunt). Po roce poflakování mu ale otrne\, a tak celkem vděčně přijme nabídku ambiciózní producentky na roli dubléra akční hvězdy Toma Rydera (Aaron Taylor-Johnson) v&nbsp\;připravovaném ambiciózním sci-fi filmu. Když se ale dozvěděl\, že ten film točí jeho bývalá láska Jody\, určitě si řekl:&nbsp\;„Kdybych to býval věděl\, tak bych sem býval nechodil.“&nbsp\;A to není jediný malér. Celé natáčení míří do kytek\, protože klíčový herec Tom Ryder se vypařil neznámo kam. A Colta pověří jeho nalezením\, protože umí rány rozdávat i přijímat a nikomu nebude chybět\, když i on náhodou zmizí. To vše rázem postaví Coltovy životní priority na hlavu. Uvědomí si\, že mu svět filmu strašně chyběl\, že režisérka Jody je jeho životní láska a že když nenajde hvězdu jejího filmu živou a práceschopnou\, možná jí to zničí kariéru. Na jednoho obyčejného kaskadéra je to hodně slušná nálož. Protože jak sám říká:&nbsp\;„Nejsem hrdina\, jsem jen dublér.“
LOCATION:Litoměřice
END:VEVENT
END:VCALENDAR