BEGIN:VCALENDAR
VERSION:2.0
CALSCALE:GREGORIAN
PRODID:-//MyApp//Calendar 1.0//EN
BEGIN:VEVENT
METHOD:PUBLISH
UID:44903@regionalniportaly.cz
DTSTAMP:20260422T115317Z
DTSTART;VALUE=DATE:20240810
DTEND;VALUE=DATE:20240811
SUMMARY:Němá tajemství - Letní kino Litoměřice
DESCRIPTION:Česko\, 2023\, 107 minRežie: Tomáš Mašín&nbsp\;Některé události vstupují do našich životů nezvány. A přesně taková potká i veterináře Martina (Marián Mitaš) a jeho ženu Eriku (Jana Plodková)\, jejichž životy obrátí naruby jediný okamžik. Okamžik\, který odhalí škraloupy na zdánlivé rodinné idyle a vykreslí nejednoznačnou hranici mezi dobrými a sobeckými úmysly. Martinův úraz je navíc nejen vážný\, ale i podezřelý\, a tak se k rodinným trablům přidá ještě podezřívavost policie. Krimi vystavěné kolem vyšetřování případu postupně graduje do psychologického dramatu o vztazích\, traumatech v nich a lžích. Jak to všechno bylo? Jak to skončí? A jaké šrámy to zanechá na rodině?
LOCATION:Litoměřice
END:VEVENT
END:VCALENDAR