BEGIN:VCALENDAR
VERSION:2.0
CALSCALE:GREGORIAN
PRODID:-//MyApp//Calendar 1.0//EN
BEGIN:VEVENT
METHOD:PUBLISH
UID:44901@regionalniportaly.cz
DTSTAMP:20260422T115326Z
DTSTART;VALUE=DATE:20240809
DTEND;VALUE=DATE:20240810
SUMMARY:Hrabě Monte Christo - Letní kino Litoměřice
DESCRIPTION:Francie\, 2024\, 178 minRežie: Alexandre de La Patellière\, Matthieu Delaporte&nbsp\;Marseille\, 1815. Mladý lodní důstojník Edmond Dantes zažívá nejšťastnější obdobní svého života. Má se stát kapitánem a konečně se oženit s láskou svého života\, krásnou Mercedes. Jeho úspěch ale u mnohých vzbuzuje žárlivost. Edmond se stává obětí zákeřného plánu. Ze dne na den je bez soudu uvězněn v kobce pevnosti If\, bez naděje na propuštění. Jediný\, s kým může Edmond mluvit\, je Abbé Faria\, vězeň z vedlejší kobky. Abbé se stává Edmondovým přítelem a učitelem. Před smrtí mu Abbé svěří tajemství o ztraceném pokladu. Po dlouhých čtrnácti letech utrpení\, zoufalství a beznaděje se Edmondovi podaří uprchnout a najít poklad ukrytý na ostrově Monte Christo. Jediné\, po čem Edmond Dantes touží\, je zúčtovat se všemi\, kteří ho zradili. Nyní\, vyzbrojen obrovským majetkem\, se bez slitování vydává na cestu pomsty…
LOCATION:Litoměřice
END:VEVENT
END:VCALENDAR