BEGIN:VCALENDAR
VERSION:2.0
CALSCALE:GREGORIAN
PRODID:-//MyApp//Calendar 1.0//EN
BEGIN:VEVENT
METHOD:PUBLISH
UID:44900@regionalniportaly.cz
DTSTAMP:20260422T103158Z
DTSTART;VALUE=DATE:20240807
DTEND;VALUE=DATE:20240808
SUMMARY:Zahradníkův rok - Letní kino Litoměřice
DESCRIPTION:Česko\, 2024\, 104 minRežie: Jiří Havelka&nbsp\;Na úpatí malebného kopečku žije zahradník (Oldřich Kaiser) se svojí ženou\, kteří se starají o své malé zahradnictví. Jejich idylický život je narušen\, když se na nedalekém zámku chystá usadit nový majitel\, který chce přetvořit krajinu podle svých představ. Když zahradnictví brání jeho plánům\, spustí se sled bizarních událostí. Nový majitel nejprve vytvoří plot s žiletkovým drátem a zavře příjezdovou cestu. Postupně přidává ve svých činech na intenzitě\, aby dosáhl svých cílů. Zahradník se však nevzdává a snaží se bránit svůj domov. Když se policie i starostka postupně utopí ve své vlastní byrokracií\, zahradník se rozhodně vzít osud do vlastních rukou.&nbsp\;Nový film&nbsp\;Jiřího Havelky\, balancující na hraně bizáru\, absurdna a tragikomedie je inspirován skutečným příběhem a stejnojmenným literárním dílem od&nbsp\;Karla Čapka.&nbsp\;Před projekcí&nbsp\; od 20:30 Letní kino +Beseda o mizejícím sýčkovi obecném od ČSOa &nbsp\;předfilm Slyšet sýčka (Česko/2020/28 min)\, režie: Jan Hošek&nbsp\;
LOCATION:Litoměřice
END:VEVENT
END:VCALENDAR