BEGIN:VCALENDAR
VERSION:2.0
CALSCALE:GREGORIAN
PRODID:-//MyApp//Calendar 1.0//EN
BEGIN:VEVENT
METHOD:PUBLISH
UID:44899@regionalniportaly.cz
DTSTAMP:20260422T084550Z
DTSTART;VALUE=DATE:20240803
DTEND;VALUE=DATE:20240804
SUMMARY:Až na konec světa - Letní kino Litoměřice
DESCRIPTION:USA\, Mexiko\, Velká Británie\, 2023\, 130 minRežie: Viggo Mortensen&nbsp\;60.&nbsp\;léta 19.&nbsp\;století\, San Francisco. Svobodomyslná Vivienne (Vicky Krieps) se zamiluje do&nbsp\;zamlklého truhláře Holgera (Viggo Mortensen). Po&nbsp\;jeho boku&nbsp\;se vydává malebnou krajinou nevadských kaňonů a&nbsp\;lesů najít svůj vysněný domov. Usídlí se v&nbsp\;malém\, zdánlivě klidném městečku\, které ovládá zkorumpovaný starosta a&nbsp\;jeho společníci. Když Holger odchází bojovat do&nbsp\;občanské války\, zůstává Vivienne sama čelit nástrahám drsného prostředí\, do&nbsp\;kterého vnáší chaos zejména despotický starostův syn Weston. Druhý režijní počin Vigga Mortensena je nadčasovou romancí dvou fatálně svéhlavých milenců.
LOCATION:Litoměřice
END:VEVENT
END:VCALENDAR