BEGIN:VCALENDAR
VERSION:2.0
CALSCALE:GREGORIAN
PRODID:-//MyApp//Calendar 1.0//EN
BEGIN:VEVENT
METHOD:PUBLISH
UID:44656@regionalniportaly.cz
DTSTAMP:20260422T151725Z
DTSTART;VALUE=DATE:20241011
DTEND;VALUE=DATE:20241012
SUMMARY:Vzpomínky
DESCRIPTION:Český zpěvák&nbsp\;Daniel Danko&nbsp\;se po svých dlouhých muzikální cestách svetem vrací do svého rodného kraje a přináší svým posluchačům vzpomínky na překrásné časy našich českých a světových zpěváků a jejich nezapomenutelných hitů.Zpěvák Daniel Dankovsky ( Danko )Původem z Ústí nad Labem&nbsp\;studoval už za mladí zpěv u známého Pianisty\, aranžéra\, jazzmana a bývalého hudebního redaktora ústeckého rozhlasu Pavla Stolby.V dalších létech účinkoval Daniel D. Jako zpěvák po celé Evropě\, ve Španělsku\, na Cote d' Azur a v USA.V podání Daniela Dankovského se posluchač navrátí do dob překrásných melodií a vzpominek na krásné časy.Už proto nazval zpěvák své letošní Turné&nbsp\;"Vzpomínky".Jeho nová skladba "Čas lásky " bude pro české posluchače vycházet už na podzim&nbsp\;tohoto roku.Daniel Danko:&nbsp\;"Mé&nbsp\;Vzpomínky na nezapomenutelného Karla Gotta\, Karla Černocha\, Jiřího Schelingera\, Pavla Nováka a dalších zpěváků mě doprovází až do dnes\, protože jsem snimi prožil svá nejkrásnější hudební léta".&nbsp\;
LOCATION:Litoměřice
END:VEVENT
END:VCALENDAR