BEGIN:VCALENDAR
VERSION:2.0
CALSCALE:GREGORIAN
PRODID:-//MyApp//Calendar 1.0//EN
BEGIN:VEVENT
METHOD:PUBLISH
UID:44216@regionalniportaly.cz
DTSTAMP:20260422T084950Z
DTSTART;VALUE=DATE:20240727
DTEND;VALUE=DATE:20240728
SUMMARY:Wonka - Letní kino Litoměřice
DESCRIPTION:USA\, 2023\, 116 minRežie: Paul King&nbsp\;Film&nbsp\;Wonka&nbsp\;je založen na výjimečné postavě\, která je ústřední postavou knihy „Karlík a továrna na čokoládu“\, nejkultovnější dětské knihy&nbsp\;Roalda Dahla&nbsp\;a jedné z nejprodávanějších dětských knih všech dob\, a vypráví podivuhodný příběh o talentovaném Willy Wonkovi\, který se s očima dokořán ocitne v centru světa čokolády\, nemá nic než pár mincí v kapse a plný klobouk snů – jedním z nich je otevřít si vlastní čokoládovnu\, která by se vyrovnala největším čokoládovnám světa. Ale v tomto velkolepém\, i když nelítostném městě se Willyho skromné peníze rychle utratí a zavedou ho na cestu strádání a otroctví v nedaleké prádelně. Ačkoli se zdá\, že Willyho vyhlídky jsou zmařeny\, jeho naděje nikoli\, přestože podnikání ve výrobě čokolády je mnohem těžší\, než se zdá\, a Willyho genialita není vítána cukrářským kartelem\, který se nezastaví před ničím\, aby si udržel svou klientelu pro sebe. Nicméně díky své osobité značce geniálního vynálezu\, troše neotřelého myšlení a pomoci několika nejlepších přátel- zejména bystré mladé dívky jménem Noodle – se Willy stane odhodlanějším než kdy jindy a využije svého talentu a houževnatosti k tomu\, aby si splnil svůj sen. Během následujícího kouzelně lahodného\, někdy nebezpečného a život potvrzujícího dobrodružství Willy zjistí\, že ačkoli většina lidí\, které potká\, dá přednost chamtivosti před dobrem\, každý mrak má stříbrný okraj… stačí jen nepřestávat snít.
LOCATION:Litoměřice
END:VEVENT
END:VCALENDAR