BEGIN:VCALENDAR
VERSION:2.0
CALSCALE:GREGORIAN
PRODID:-//MyApp//Calendar 1.0//EN
BEGIN:VEVENT
METHOD:PUBLISH
UID:44215@regionalniportaly.cz
DTSTAMP:20260422T070036Z
DTSTART;VALUE=DATE:20240726
DTEND;VALUE=DATE:20240727
SUMMARY:Zatracená krvavá láska - Letní kino Litoměřice
DESCRIPTION:Velká Británie\, USA\, 2024\, 104 minRežie: Rose Glass&nbsp\;Konec osmdesátek\, vyprahlý americký zapadákov. Samotářská provozní posilovny Lou (Kristen Stewart) se bezhlavě zamiluje do Jackie (Katy O’Brian)\, nabušené kulturistky\, která míří vyhrát mistrovství do Las Vegas. Vášnivá láska a německé steroidy vlijí ústřední dvojici do žil obrovskou dávku energie. V nekontrolovaném opojení se vydají za démonickým otcem Lou (Ed Harris) pomstít jednou provždy staré křivdy. Režisérka&nbsp\;Rose Glass&nbsp\;zelektrizovala Sundance i Berlinale neodolatelně podvratným thrillerem\, který vám zvýší tepovku a vyplaví endorfiny.
LOCATION:Litoměřice
END:VEVENT
END:VCALENDAR