BEGIN:VCALENDAR
VERSION:2.0
CALSCALE:GREGORIAN
PRODID:-//MyApp//Calendar 1.0//EN
BEGIN:VEVENT
METHOD:PUBLISH
UID:44214@regionalniportaly.cz
DTSTAMP:20260422T070224Z
DTSTART;VALUE=DATE:20240724
DTEND;VALUE=DATE:20240725
SUMMARY:MDŽ – Muzikantky\, dámy\, ženy - Letní kino Litoměřice
DESCRIPTION:MDŽ – Muzikantky\, dámy\, ženy –&nbsp\;Lucie Redlová\, Beata Bocek\, Eva Ludvík Kudrnová&nbsp\;a&nbsp\;Alžběta Jamborová.Koncert čtyř muzikantek\, jež navazují na úspěšný stejnojmenný projekt\, pod kterým v letech 2013 – 2016 vystupovaly Lucie Redlová a Beata Bocek společně houslistkou Jitkou Šuranskou. Tyto tři významné osobnosti moravského folku a folkloru spolu tehdy odehrály téměř třicet koncertů\, jež se vyznačovaly dramaturgickou pestrostí a ženskou živelností. Po úmrtí Jitky Šuranské na podzim 2019 to vypadalo na smutný konec projektu\, Beata navíc žila dlouhodobě ve Švédsku. Před Vánoci 2020 se ale dala Beata s Lucií znovu dohromady a s pomocí posil\, dalších kamarádek a výborných muzikantek Evy Ludvík Kudrnové (housle) a Alžběty Jamborové (hoboj\, flétny)\, si spolu zahrály ve streamovaném koncertu nejen své písničky\, ve kterých si navzájem hostovaly\, ale právě i „Jitčiny“ lidovky. Byla to krásná vzpomínka na Jitku a večer plný radosti z hudby.Základem programu zůstávají hlavně autorské písně Lucie Redlové a Beaty Bocek a lidovky z Valašska\, Slezska i Slovácka a vytříbená dramaturgie založená na pestrosti aranží i doprovodných nástrojů (4 ženy disponují deseti nástroji).MDŽ hraje od roku 2023 ve složení:Lucie Redlová – kytara\, mandolína\, zpěvBeata Bocek – kytara\, ukulele\, koncovka\, akordeon\, zpěvEva Ludvík Kudrnová – housle\, zpěvAlžběta Jamborová – hoboj\, flétna\, zpěvKoncert obohacený o zážitek z vína\, který zprostředkuje&nbsp\;Noravank.&nbsp\;Večer v rámci letního kina+ je podpořen Městem Litoměřice.&nbsp\;&nbsp\;
LOCATION:Litoměřice
END:VEVENT
END:VCALENDAR