BEGIN:VCALENDAR
VERSION:2.0
CALSCALE:GREGORIAN
PRODID:-//MyApp//Calendar 1.0//EN
BEGIN:VEVENT
METHOD:PUBLISH
UID:44212@regionalniportaly.cz
DTSTAMP:20260422T070252Z
DTSTART;VALUE=DATE:20240724
DTEND;VALUE=DATE:20240725
SUMMARY:JAGNA + MDŽ (film+koncert) Letní kino Litoměřice
DESCRIPTION:Od 20:00&nbsp\;koncert kapely MDŽMDŽ – Muzikantky\, dámy\, ženy –&nbsp\;Lucie Redlová\, Beata Bocek\, Eva Ludvík Kudrnová&nbsp\;a&nbsp\;Alžběta Jamborová.Koncert čtyř muzikantek\, jež navazují na úspěšný stejnojmenný projekt\, pod kterým v letech 2013 – 2016 vystupovaly Lucie Redlová a Beata Bocek společně houslistkou Jitkou Šuranskou. Tyto tři významné osobnosti moravského folku a folkloru spolu tehdy odehrály téměř třicet koncertů\, jež se vyznačovaly dramaturgickou pestrostí a ženskou živelností. Po úmrtí Jitky Šuranské na podzim 2019 to vypadalo na smutný konec projektu\, Beata navíc žila dlouhodobě ve Švédsku. Před Vánoci 2020 se ale dala Beata s Lucií znovu dohromady a s pomocí posil\, dalších kamarádek a výborných muzikantek Evy Ludvík Kudrnové (housle) a Alžběty Jamborové (hoboj\, flétny)\, si spolu zahrály ve streamovaném koncertu nejen své písničky\, ve kterých si navzájem hostovaly\, ale právě i „Jitčiny“ lidovky. Byla to krásná vzpomínka na Jitku a večer plný radosti z hudby.Základem programu zůstávají hlavně autorské písně Lucie Redlové a Beaty Bocek a lidovky z Valašska\, Slezska i Slovácka a vytříbená dramaturgie založená na pestrosti aranží i doprovodných nástrojů (4 ženy disponují deseti nástroji).MDŽ hraje od roku 2023 ve složení:Lucie Redlová – kytara\, mandolína\, zpěvBeata Bocek – kytara\, ukulele\, koncovka\, akordeon\, zpěvEva Ludvík Kudrnová – housle\, zpěvAlžběta Jamborová – hoboj\, flétna\, zpěvKoncert obohacený o zážitek z vína\, který zprostředkuje&nbsp\;Noravank.&nbsp\;&nbsp\;Od 21:30 Projekce filmu JAGNAPolsko\, Srbsko\, Litva\, 2023\, 114 minRežie: DK Welchman\, Hugh Welchman&nbsp\;Po&nbsp\;celosvětovém úspěchu filmu&nbsp\;S&nbsp\;láskou Vincent&nbsp\;se&nbsp\;tentokrát dvojice režisérů&nbsp\;DK&nbsp\;Welchman&nbsp\;a&nbsp\;Hugh Welchman&nbsp\;zaměřila na&nbsp\;jedno z&nbsp\;nejvýznamnějších děl polské literatury „Sedláci“.&nbsp\;Román\, za&nbsp\;nějž jeho autor&nbsp\;W. S. Reymont&nbsp\;získal Nobelovu cenu. Ústřední postavou příběhu je&nbsp\;krásná Jagna\, nemajetná dívka\, do&nbsp\;které se&nbsp\;zamiluje starý a&nbsp\;bohatý sedlák Boryna. Přes protesty své rodiny se&nbsp\;s&nbsp\;ní ožení. Jagna však čelí rozhodnutí\, zda&nbsp\;je&nbsp\;pro ni&nbsp\;důležitější spokojený život v&nbsp\;blahobytu nebo láska k&nbsp\;Antkovi\, synovi sedláka Boryny. Bohužel v&nbsp\;zemi tradic se&nbsp\;lásce nepřeje. Režiséři se&nbsp\;ve filmu vrací k&nbsp\;polským kořenům a&nbsp\;román Władysława Reymonta prezentují široké veřejnosti za&nbsp\;pomoci techniky animované malby\, která si&nbsp\;již díky filmu nominovaném na&nbsp\;Oscara&nbsp\;S láskou Vincent&nbsp\;získala srdce sta tisíců fanoušků po&nbsp\;celém světě. V&nbsp\;Jagně&nbsp\;se&nbsp\;nevěnovali pouze samotnému románu\, ale&nbsp\;interpretovali do&nbsp\;něj též obrazy významných představitelů hnutí Mladé Polsko\, jako&nbsp\;je Józef Chełmoński\, Ferdynand Ruszczyc nebo Leon Wyczółkowski. Jak&nbsp\;sami říkají\, byla&nbsp\;to&nbsp\;pro ně další objevitelská cesta\, jež&nbsp\;jim umožnila hlouběji proniknout do&nbsp\;emocionálních možností a&nbsp\;estetické krásy\, kterou může animace v&nbsp\;podobě speciální olejomalby přinést do&nbsp\;filmového vyprávění.&nbsp\;Večer v rámci letního kina+ je podpořen Městem Litoměřice.&nbsp\;
LOCATION:Litoměřice
END:VEVENT
END:VCALENDAR