BEGIN:VCALENDAR
VERSION:2.0
CALSCALE:GREGORIAN
PRODID:-//MyApp//Calendar 1.0//EN
BEGIN:VEVENT
METHOD:PUBLISH
UID:43858@regionalniportaly.cz
DTSTAMP:20260422T070050Z
DTSTART;VALUE=DATE:20240720
DTEND;VALUE=DATE:20240721
SUMMARY:Vocasy na tripu - Letní kino Litoměřice
DESCRIPTION:USA\, 2023\, 93 minRežie: Josh Greenbaum&nbsp\;Reg je extrémně roztomilý pes\, bohužel jeho majitel Doug si to nemyslí\, a tak se ho pokouší zbavit. Naloží vždycky Rega do dodávky\, popojede s&nbsp\;ním\, hodí mu tenisák\, a než hafan stačí přiběhnout zpátky\, ufrnkne mu. Jenže Reg se pokaždé vrátí a má radost\, že tuhle „hru“ vyhrál. Bohužel to platí jen do dne\, kdy s&nbsp\;ním Doug popojede opravdu hodně daleko. Ztracený ve velkoměstě narazí Reg na partu toulavých psů\, kteří na ulici už nabrali o poznání víc životních zkušeností než on\, a ti naivnímu čoklíkovi konečně otevřou oči. Doug si s&nbsp\;ním vůbec nehrál\, on se ho celou tu dobu pokoušel zbavit. V Regovi\, kterému se právě obrátil život vzhůru nohama\, bouchnou saze\, a rozhodne se vrátit domů a pomstít se tomu zmetkovi tou nejstrašlivější možnou pomstou\, totiž uhryznutím toho nejcennějšího\, co Doug má. Společně s&nbsp\;novými psími kamarády se vydává na neuvěřitelnou pouť napříč Amerikou\, na níž na odhodlané čtvernožce číhají nejrůznější překvapení včetně sexuchtivých sádrových trpaslíků\, hladových orlů\, halucinogenních houbiček\, sucharských policejních vlčáků a zábavní pyrotechniky. Žádná z&nbsp\;překážek však není tak velká\, aby ji neobešli nebo nepodlezli. Vždyť i ta hloupá kólie Lassie se dokázala vrátit a Doug by se měl začít bát.
LOCATION:Litoměřice
END:VEVENT
END:VCALENDAR